BEGIN:VCALENDAR
VERSION:2.0
PRODID:-//wp-events-plugin.com//7.2.3.1//EN
TZID:Europe/Berlin
X-WR-TIMEZONE:Europe/Berlin
BEGIN:VEVENT
UID:52@sv-burlafingen.de
DTSTART;TZID=Europe/Berlin:20260624T140000
DTEND;TZID=Europe/Berlin:20260624T180000
DTSTAMP:20260312T152429Z
URL:https://sv-burlafingen.de/events/22-gau-seniorenschiessen-durchgang-2
SUMMARY:22. Gau-Seniorenschießen Durchgang 2
DESCRIPTION:Wir laden alle Senioren aus dem Schützengau Neu-Ulm zum 22. Ga
 u-Seniorenschießen in Luftgewehr-Auflage und Luftpistole-Auflage ein.\n\n
 Die Ausschreibung wird demnächst hier veröffentlicht.\n\n&nbsp\;
ATTACH;FMTTYPE=image/jpeg:https://sv-burlafingen.de/wp-content/uploads/202
 6/03/Titelbild-Seniorenchiessen-180.png
CATEGORIES:10m-Stand,Gauveranstaltung,Luftgewehr-Auflage 1.
 Mannschaft,Luftpistole-Auflage,Ort: Burlafingen
LOCATION:Schützenheim Burlafingen\, Thalfinger Straße 135\, Neu-Ulm\, 892
 33\, Deutschland
X-APPLE-STRUCTURED-LOCATION;VALUE=URI;X-ADDRESS=Thalfinger Straße 135\, Ne
 u-Ulm\, 89233\, Deutschland;X-APPLE-RADIUS=100;X-TITLE=Schützenheim Burla
 fingen:geo:0,0
END:VEVENT
BEGIN:VTIMEZONE
TZID:Europe/Berlin
X-LIC-LOCATION:Europe/Berlin
BEGIN:DAYLIGHT
DTSTART:20260329T030000
TZOFFSETFROM:+0100
TZOFFSETTO:+0200
TZNAME:CEST
END:DAYLIGHT
END:VTIMEZONE
END:VCALENDAR